BEGIN:VCALENDAR
VERSION:2.0
PRODID:-//Unity Community of Ashland - ECPv6.15.20//NONSGML v1.0//EN
CALSCALE:GREGORIAN
METHOD:PUBLISH
X-WR-CALNAME:Unity Community of Ashland
X-ORIGINAL-URL:https://unitycommunityofashland.org
X-WR-CALDESC:Events for Unity Community of Ashland
REFRESH-INTERVAL;VALUE=DURATION:PT1H
X-Robots-Tag:noindex
X-PUBLISHED-TTL:PT1H
BEGIN:VTIMEZONE
TZID:America/Los_Angeles
BEGIN:DAYLIGHT
TZOFFSETFROM:-0800
TZOFFSETTO:-0700
TZNAME:PDT
DTSTART:20250309T100000
END:DAYLIGHT
BEGIN:STANDARD
TZOFFSETFROM:-0700
TZOFFSETTO:-0800
TZNAME:PST
DTSTART:20251102T090000
END:STANDARD
BEGIN:DAYLIGHT
TZOFFSETFROM:-0800
TZOFFSETTO:-0700
TZNAME:PDT
DTSTART:20260308T100000
END:DAYLIGHT
BEGIN:STANDARD
TZOFFSETFROM:-0700
TZOFFSETTO:-0800
TZNAME:PST
DTSTART:20261101T090000
END:STANDARD
BEGIN:DAYLIGHT
TZOFFSETFROM:-0800
TZOFFSETTO:-0700
TZNAME:PDT
DTSTART:20270314T100000
END:DAYLIGHT
BEGIN:STANDARD
TZOFFSETFROM:-0700
TZOFFSETTO:-0800
TZNAME:PST
DTSTART:20271107T090000
END:STANDARD
END:VTIMEZONE
BEGIN:VEVENT
DTSTART;TZID=America/Los_Angeles:20260419T110000
DTEND;TZID=America/Los_Angeles:20260419T123000
DTSTAMP:20260419T055508
CREATED:20260225T002649Z
LAST-MODIFIED:20260414T211933Z
UID:9451-1776596400-1776601800@unitycommunityofashland.org
SUMMARY:Sunday Service
DESCRIPTION:Due to a glitch in the software\, the time showing above is incorrect.Our Sunday Service is 11:00am to 12:30pm. \n\n\n\n\n\n\n\nGuest Speaker\n\n\n\nWe have a wonderful special guest Frances Oyung for our Sunday service celebrating Earth Day on April 19th!! \n\n\n\n\n\n\n\nFrances will speak on how we all can engage and protect the earth and ecosystems here inthe Klamath-Siskiyou region. \n\n\n\n\n\n\n\nAbout Frances\n\n\n\nFrances is the Rogue Riverkeeper Program Manager at Klamath-Siskiyou Wildlands Center (KS Wild)\, a non-profit based in Ashland. Using advocacy\, accountability and community engagement\, she works to protect water quality in the Rogue Basin\, a stronghold for wild fish and ecosystems. \n\n\n\n\n\n\n\nIf you are unable to attend in person or are feeling a bit unwell\, we invite you to attend our Sunday Service online via Zoom. \n\n\n\nJust click the button below at 10:45am: \n\n\n\n\njoin on zoom
URL:https://unitycommunityofashland.org/event/sunday-service-apr-19-2026/
LOCATION:Unity Community of Ashland\, 185 N. Mountain Ave.\, Ashland\, Oregon\, 97520
CATEGORIES:Sunday Services
ATTACH;FMTTYPE=image/jpeg:https://unitycommunityofashland.org/wp-content/uploads/2026/02/Frances-Oyung-scaled.jpg
END:VEVENT
END:VCALENDAR